BEGIN:VCALENDAR
VERSION:2.0
PRODID:-//transportevolution.bitkit.dk//NONSGML Transport Evolution Africa Forum & Expo//EN
METHOD:REQUEST
BEGIN:VEVENT
UID:20260421T164935-818683057-calendar_event
DTSTAMP:20260421T164935Z
DTSTART:20241008T110000
DTEND:20241010T190000
LOCATION:Gallagher Convention Centre, Johannesburg, South Africa
SUMMARY:Transport Evolution Africa Forum & Expo
DESCRIPTION:The 12th annual Transport Evolution Africa Forum & Expo, Africa’s only port, rail, and road meeting place, is set to take place in Johannesburg, South Africa in 2024. This is THE only annual expo and forum for local, regional, and international public and private stakeholders to meet, who plan, build, invest-in and supply to the development and maintenance of Africa’s ports, rail and road infrastructure.
BEGIN:VALARM
TRIGGER:PT1W
ACTION:DISPLAY
DESCRIPTION:Reminder
END:VALARM
END:VEVENT
END:VCALENDAR
